BEGIN:VCALENDAR
VERSION:2.0
PRODID:-//C.I.T.Y. of Support - ECPv6.15.20//NONSGML v1.0//EN
CALSCALE:GREGORIAN
METHOD:PUBLISH
X-WR-CALNAME:C.I.T.Y. of Support
X-ORIGINAL-URL:https://cityofsupport.org
X-WR-CALDESC:Events for C.I.T.Y. of Support
REFRESH-INTERVAL;VALUE=DURATION:PT1H
X-Robots-Tag:noindex
X-PUBLISHED-TTL:PT1H
BEGIN:VTIMEZONE
TZID:America/Chicago
BEGIN:DAYLIGHT
TZOFFSETFROM:-0600
TZOFFSETTO:-0500
TZNAME:CDT
DTSTART:20240310T080000
END:DAYLIGHT
BEGIN:STANDARD
TZOFFSETFROM:-0500
TZOFFSETTO:-0600
TZNAME:CST
DTSTART:20241103T070000
END:STANDARD
BEGIN:DAYLIGHT
TZOFFSETFROM:-0600
TZOFFSETTO:-0500
TZNAME:CDT
DTSTART:20250309T080000
END:DAYLIGHT
BEGIN:STANDARD
TZOFFSETFROM:-0500
TZOFFSETTO:-0600
TZNAME:CST
DTSTART:20251102T070000
END:STANDARD
BEGIN:DAYLIGHT
TZOFFSETFROM:-0600
TZOFFSETTO:-0500
TZNAME:CDT
DTSTART:20260308T080000
END:DAYLIGHT
BEGIN:STANDARD
TZOFFSETFROM:-0500
TZOFFSETTO:-0600
TZNAME:CST
DTSTART:20261101T070000
END:STANDARD
BEGIN:DAYLIGHT
TZOFFSETFROM:-0600
TZOFFSETTO:-0500
TZNAME:CDT
DTSTART:20270314T080000
END:DAYLIGHT
BEGIN:STANDARD
TZOFFSETFROM:-0500
TZOFFSETTO:-0600
TZNAME:CST
DTSTART:20271107T070000
END:STANDARD
END:VTIMEZONE
BEGIN:VTIMEZONE
TZID:UTC
BEGIN:STANDARD
TZOFFSETFROM:+0000
TZOFFSETTO:+0000
TZNAME:UTC
DTSTART:20230101T000000
END:STANDARD
END:VTIMEZONE
BEGIN:VEVENT
DTSTART;TZID=America/Chicago:20260408T190000
DTEND;TZID=America/Chicago:20260408T210000
DTSTAMP:20260423T163957
CREATED:20260330T141234Z
LAST-MODIFIED:20260330T141235Z
UID:10003422-1775674800-1775682000@cityofsupport.org
SUMMARY:C.I.T.Y. Dads Hang Out
DESCRIPTION:Grab a beer with other dads in our community on the 2nd Wednesday of each month. This casual hangout\, with no agenda/structure\, is designed to bring dads together in a stress-free environment to make connections with other parents in similar situations. \n\n\n\nJoin the dads at 7:00pm at the Bird’s Nest (11 W. Davis St. in Arlington Heights) \n\n\n\nEmail: hello@cityofsupport.org with any questions or to sign up for email alerts. No RSVP required.
URL:https://cityofsupport.org/event/c-i-t-y-dads-hang-out-2-2-6/
CATEGORIES:Dads Meet-Up,Parent Meet-Up
ATTACH;FMTTYPE=image/jpeg:https://cityofsupport.org/wp-content/uploads/2025/02/1200x628-6.jpg
END:VEVENT
BEGIN:VEVENT
DTSTART;TZID=America/Chicago:20260311T190000
DTEND;TZID=America/Chicago:20260311T210000
DTSTAMP:20260423T163957
CREATED:20251028T235821Z
LAST-MODIFIED:20260223T184226Z
UID:10003421-1773255600-1773262800@cityofsupport.org
SUMMARY:C.I.T.Y. Dads Hang Out
DESCRIPTION:Grab a beer with other dads in our community on the 2nd Wednesday of each month. This casual hangout\, with no agenda/structure\, is designed to bring dads together in a stress-free environment to make connections with other parents in similar situations. \n\n\n\nJoin the dads at 7:00pm at Spears (723 N. Milwaukee in Wheeling) \n\n\n\nEmail: hello@cityofsupport.org with any questions or to sign up for email alerts. No RSVP required.
URL:https://cityofsupport.org/event/c-i-t-y-dads-hang-out-2-2/2026-03-11/
CATEGORIES:Dads Meet-Up,Parent Meet-Up
ATTACH;FMTTYPE=image/jpeg:https://cityofsupport.org/wp-content/uploads/2025/02/1200x628-6.jpg
END:VEVENT
BEGIN:VEVENT
DTSTART;TZID=America/Chicago:20260211T190000
DTEND;TZID=America/Chicago:20260211T210000
DTSTAMP:20260423T163957
CREATED:20260201T144906Z
LAST-MODIFIED:20260212T232305Z
UID:10002568-1770836400-1770843600@cityofsupport.org
SUMMARY:C.I.T.Y. Dads Hang Out
DESCRIPTION:Grab a beer with other dads in our community on the 2nd Wednesday of each month. This casual hangout\, with no agenda/structure\, is designed to bring dads together in a stress-free environment to make connections with other parents in similar situations. \n\n\n\nJoin the dads at 7:00pm at Bird’s Nest in Arlington Heights (11 W. Davis Street\, Arlington Heights\, 60005). \n\n\n\nEmail: hello@cityofsupport.org with any questions or to sign up for email alerts. No RSVP required.
URL:https://cityofsupport.org/event/c-i-t-y-dads-hang-out-2-2-5/
CATEGORIES:Dads Meet-Up,Parent Meet-Up
ATTACH;FMTTYPE=image/jpeg:https://cityofsupport.org/wp-content/uploads/2025/02/1200x628-6.jpg
END:VEVENT
BEGIN:VEVENT
DTSTART;TZID=America/Chicago:20260121T190000
DTEND;TZID=America/Chicago:20260121T210000
DTSTAMP:20260423T163957
CREATED:20251230T230537Z
LAST-MODIFIED:20251230T230537Z
UID:10002567-1769022000-1769029200@cityofsupport.org
SUMMARY:C.I.T.Y. Dads Hang Out
DESCRIPTION:Grab a beer with other dads in our community on the 2nd Wednesday of each month. This casual hangout\, with no agenda/structure\, is designed to bring dads together in a stress-free environment to make connections with other parents in similar situations. \n\n\n\nJoin the dads at 7:00pm at Gator’s Wing Shack (1719 Rand Rd. in Palatine\, IL 60074).   \n\n\n\nEmail: hello@cityofsupport.org with any questions or to sign up for email alerts. No RSVP required.
URL:https://cityofsupport.org/event/c-i-t-y-dads-hang-out-2-2-4/
CATEGORIES:Dads Meet-Up,Parent Meet-Up
ATTACH;FMTTYPE=image/jpeg:https://cityofsupport.org/wp-content/uploads/2025/02/1200x628-6.jpg
END:VEVENT
BEGIN:VEVENT
DTSTART;TZID=America/Chicago:20251210T190000
DTEND;TZID=America/Chicago:20251210T210000
DTSTAMP:20260423T163957
CREATED:20251129T195047Z
LAST-MODIFIED:20251209T224356Z
UID:10002566-1765393200-1765400400@cityofsupport.org
SUMMARY:C.I.T.Y. Dads Hang Out
DESCRIPTION:Grab a beer with other dads in our community on the 2nd Wednesday of each month. This casual hangout\, with no agenda/structure\, is designed to bring dads together in a stress-free environment to make connections with other parents in similar situations. \n\n\n\nJoin the dads on Wednesday\, 12/10 at 7:00pm. LOCATION: Spears in Wheeling. \n\n\n\nEmail: hello@cityofsupport.org with any questions or to sign up for email alerts. No RSVP required.
URL:https://cityofsupport.org/event/c-i-t-y-dads-hang-out-2-2-3/
CATEGORIES:Dads Meet-Up,Parent Meet-Up
ATTACH;FMTTYPE=image/jpeg:https://cityofsupport.org/wp-content/uploads/2025/02/1200x628-6.jpg
END:VEVENT
BEGIN:VEVENT
DTSTART;TZID=America/Chicago:20251119T190000
DTEND;TZID=America/Chicago:20251119T210000
DTSTAMP:20260423T163957
CREATED:20251028T235844Z
LAST-MODIFIED:20251117T182754Z
UID:10002507-1763578800-1763586000@cityofsupport.org
SUMMARY:C.I.T.Y. Dads Hang Out
DESCRIPTION:Grab a beer with other dads in our community on the 2nd Wednesday of each month. This casual hangout\, with no agenda/structure\, is designed to bring dads together in a stress-free environment to make connections with other parents in similar situations. \n\n\n\nJoin the dads at 7:00pm at Moretti’s in Wheeling (365 W. Dundee Rd. in Wheeling\, 60090).  \n\n\n\nEmail: hello@cityofsupport.org with any questions or to sign up for email alerts. No RSVP required.
URL:https://cityofsupport.org/event/c-i-t-y-dads-hang-out-2-2-2/
CATEGORIES:Dads Meet-Up,Parent Meet-Up
ATTACH;FMTTYPE=image/jpeg:https://cityofsupport.org/wp-content/uploads/2025/02/1200x628-6.jpg
END:VEVENT
BEGIN:VEVENT
DTSTART;TZID=America/Chicago:20251008T190000
DTEND;TZID=America/Chicago:20251008T210000
DTSTAMP:20260423T163957
CREATED:20250930T144307Z
LAST-MODIFIED:20251002T204531Z
UID:10002506-1759950000-1759957200@cityofsupport.org
SUMMARY:C.I.T.Y. Dads Hang Out
DESCRIPTION:Grab a beer with other dads in our community on the 2nd Wednesday of each month. This casual hangout\, with no agenda/structure\, is designed to bring dads together in a stress-free environment to make connections with other parents in similar situations. \n\n\n\nJoin the dads at 7:00pm at Gator’s Wing Shack in Palatine. \n\n\n\nEmail: hello@cityofsupport.org with any questions or to sign up for email alerts. No RSVP required.
URL:https://cityofsupport.org/event/c-i-t-y-dads-hang-out-25/
LOCATION:Gator’s Wing Shack\, 1719 N. Rand Rd.\, Palatine\, IL\, 60074\, United States
CATEGORIES:Dads Meet-Up,Parent Meet-Up
ATTACH;FMTTYPE=image/jpeg:https://cityofsupport.org/wp-content/uploads/2025/02/1200x628-6.jpg
END:VEVENT
BEGIN:VEVENT
DTSTART;TZID=America/Chicago:20250910T190000
DTEND;TZID=America/Chicago:20250910T210000
DTSTAMP:20260423T163957
CREATED:20241026T205804Z
LAST-MODIFIED:20250830T165910Z
UID:10002505-1757530800-1757538000@cityofsupport.org
SUMMARY:C.I.T.Y. Dads Hang Out
DESCRIPTION:Grab a beer with other dads in our community on the 2nd Wednesday of each month. This casual hangout\, with no agenda/structure\, is designed to bring dads together in a stress-free environment to make connections with other parents in similar situations. \n\n\n\nJoin the dads at 7:00pm at The Landmark Inn Bar & Grille (1352 Shermer Rd. in Northbrook\, 60062).  \n\n\n\nEmail: hello@cityofsupport.org with any questions or to sign up for email alerts. No RSVP required.
URL:https://cityofsupport.org/event/c-i-t-y-dads-hang-out-2/
CATEGORIES:Dads Meet-Up,Parent Meet-Up
ATTACH;FMTTYPE=image/jpeg:https://cityofsupport.org/wp-content/uploads/2025/02/1200x628-6.jpg
END:VEVENT
BEGIN:VEVENT
DTSTART;TZID=America/Chicago:20250611T190000
DTEND;TZID=America/Chicago:20250611T210000
DTSTAMP:20260423T163957
CREATED:20250609T185814Z
LAST-MODIFIED:20250609T185833Z
UID:10002073-1749668400-1749675600@cityofsupport.org
SUMMARY:C.I.T.Y. Dads Hangout
DESCRIPTION:Grab a beer with other dads in our community on the 2nd Wednesday of each month. This casual hangout\, with no agenda/structure\, is designed to bring dads together in a stress-free environment to make connections with other parents in similar situations. \n\n\n\nJoin the dads this month on 6/11/25 at 7:00pm at Gators Wing Shack in Palatine. \n\n\n\nEmail: hello@cityofsupport.org with any questions or to sign up for email alerts. No RSVP required.
URL:https://cityofsupport.org/event/c-i-t-y-dads-hangout/
CATEGORIES:Dads Meet-Up
ATTACH;FMTTYPE=image/jpeg:https://cityofsupport.org/wp-content/uploads/2025/06/1200x628-6.jpg
END:VEVENT
BEGIN:VEVENT
DTSTART;TZID=UTC:20240911T190000
DTEND;TZID=UTC:20240911T210000
DTSTAMP:20260423T163957
CREATED:20240613T021513Z
LAST-MODIFIED:20240909T222227Z
UID:10000001-1726081200-1726088400@cityofsupport.org
SUMMARY:CITY Dads Hang Out
DESCRIPTION:Grab a beer with other dads in our community on the one Wednesday each month. This casual hangout\, with no agenda/structure\, is designed to bring dads together in a stress-free environment to make connections with other parents in similar situations. This month’s hang-out will be at 7:00pm at Spears in Wheeling. \n\n\n\nAdditional dates for the 2024 include: Oct. 9\, Nov. 13\, and Dec. 11 \n\n\n\nEmail: hello@cityofsupport.org with any questions or to sign up for email alerts. No RSVP required.
URL:https://cityofsupport.org/event/city-dads-hang-out/
CATEGORIES:Dads Meet-Up,Parent Meet-Up
ATTACH;FMTTYPE=image/jpeg:https://cityofsupport.org/wp-content/uploads/2024/06/city-dads.jpg
END:VEVENT
END:VCALENDAR