BEGIN:VCALENDAR
VERSION:2.0
PRODID:-//C.I.T.Y. of Support - ECPv6.15.20//NONSGML v1.0//EN
CALSCALE:GREGORIAN
METHOD:PUBLISH
X-WR-CALNAME:C.I.T.Y. of Support
X-ORIGINAL-URL:https://cityofsupport.org
X-WR-CALDESC:Events for C.I.T.Y. of Support
REFRESH-INTERVAL;VALUE=DURATION:PT1H
X-Robots-Tag:noindex
X-PUBLISHED-TTL:PT1H
BEGIN:VTIMEZONE
TZID:America/Chicago
BEGIN:DAYLIGHT
TZOFFSETFROM:-0600
TZOFFSETTO:-0500
TZNAME:CDT
DTSTART:20240310T080000
END:DAYLIGHT
BEGIN:STANDARD
TZOFFSETFROM:-0500
TZOFFSETTO:-0600
TZNAME:CST
DTSTART:20241103T070000
END:STANDARD
BEGIN:DAYLIGHT
TZOFFSETFROM:-0600
TZOFFSETTO:-0500
TZNAME:CDT
DTSTART:20250309T080000
END:DAYLIGHT
BEGIN:STANDARD
TZOFFSETFROM:-0500
TZOFFSETTO:-0600
TZNAME:CST
DTSTART:20251102T070000
END:STANDARD
BEGIN:DAYLIGHT
TZOFFSETFROM:-0600
TZOFFSETTO:-0500
TZNAME:CDT
DTSTART:20260308T080000
END:DAYLIGHT
BEGIN:STANDARD
TZOFFSETFROM:-0500
TZOFFSETTO:-0600
TZNAME:CST
DTSTART:20261101T070000
END:STANDARD
END:VTIMEZONE
BEGIN:VEVENT
DTSTART;TZID=America/Chicago:20250907T090000
DTEND;TZID=America/Chicago:20250907T110000
DTSTAMP:20260423T192154
CREATED:20250828T130622Z
LAST-MODIFIED:20250828T130623Z
UID:10002443-1757235600-1757242800@cityofsupport.org
SUMMARY:5K for All: From Babies to Grandparents
DESCRIPTION:Walk\, crawl\, run\, or roll! It’s a 5K event for the whole family (even if you’re not a runner!) \nIs it your first race?\nAre you a serious competitor?\nDo you need to walk with a helper?\nOr just a tiny tot learning to crawl?​ \n​Choose your distance:\n5 yards\n50 yards\n1K\n5K
URL:https://cityofsupport.org/event/5k-for-all-from-babies-to-grandparents/
LOCATION:Fox River Marina\, 28500 W. Roberts Rd.\, Port Barrington\, IL\, 60010\, United States
CATEGORIES:Featured CITY Event,Featured Sponsor Event
ATTACH;FMTTYPE=image/jpeg:https://cityofsupport.org/wp-content/uploads/2025/08/Website-Size-1200x628-1.jpg
END:VEVENT
BEGIN:VEVENT
DTSTART;TZID=America/Chicago:20250927T130000
DTEND;TZID=America/Chicago:20250927T160000
DTSTAMP:20260423T192154
CREATED:20250227T215855Z
LAST-MODIFIED:20250918T225118Z
UID:10002052-1758978000-1758988800@cityofsupport.org
SUMMARY:"Let's Meet" Parent Retreat
DESCRIPTION:REGISTRATION IS NOW OPEN! \nParents!  This in-person retreat was designed just for you! Mark it on your calendar\, and line up the babysitters now\, so you can treat yourself to this day of connecting and learning! \nThis is a day that will benefit you AND your child–we hope you’ll join us! \nThanks to the generosity of our community partners\, this program is once again offered AT NO COST to parents! \nThis year we are focusing on “Building Strong Relationships” including those with your spouses\, family\, friends\, and community.  Your medical team\, your school team\, your Early Intervention team.  And\, importantly\, your relationship with yourself.  You won’t want to miss the speakers we are lining up…all experts in their fields and many who can relate as a professional and as a parent.  Join us for this informative\, empowering\, and fun afternoon!  Sign up here! \n  \n 12:00 PRE-RETREAT (optional): Volunteer to assemble “Welcome to our C.I.T.Y.” NICU giftbags as an ice-breaker. \nSign up here. \n 1:00-2:00: Speakers TBD \n 2:00-2:30: Mingle/Snack/Create/Discuss \n 2:30-3:30: Speakers TBD \n 3:30-4:00: Mingle/Snack/Create/Discuss \n 5:00 POST-RETREAT (optional–at your own cost): Continue socializing with new/old C.I.T.Y. caregivers at Fox & Hound in Schaumburg–just minutes from Harper with a large menu and plenty of activities (pool\, darts\, ping-pong\, etc). \nSign up here. \nNEW this year:  Use this link to sign up for our “Parent Retreat–PLUS!” activities including a pre-event volunteering and post-event socializing.  Extend your weekend with these optional activities that were designed to help break the ice and create even more CITY connections…we just ask that you use the sign-up form\, so we know how many people to expect.
URL:https://cityofsupport.org/event/lets-meet-parent-retreat-2/
LOCATION:Illinois
CATEGORIES:Featured CITY Event,Retreat
ATTACH;FMTTYPE=image/jpeg:https://cityofsupport.org/wp-content/uploads/2025/02/Lets-Meet-Retreat-2025-of-1200x628-1-1.jpg
END:VEVENT
END:VCALENDAR