BEGIN:VCALENDAR
VERSION:2.0
PRODID:-//C.I.T.Y. of Support - ECPv6.15.20//NONSGML v1.0//EN
CALSCALE:GREGORIAN
METHOD:PUBLISH
X-ORIGINAL-URL:https://cityofsupport.org
X-WR-CALDESC:Events for C.I.T.Y. of Support
REFRESH-INTERVAL;VALUE=DURATION:PT1H
X-Robots-Tag:noindex
X-PUBLISHED-TTL:PT1H
BEGIN:VTIMEZONE
TZID:America/Chicago
BEGIN:DAYLIGHT
TZOFFSETFROM:-0600
TZOFFSETTO:-0500
TZNAME:CDT
DTSTART:20250309T080000
END:DAYLIGHT
BEGIN:STANDARD
TZOFFSETFROM:-0500
TZOFFSETTO:-0600
TZNAME:CST
DTSTART:20251102T070000
END:STANDARD
BEGIN:DAYLIGHT
TZOFFSETFROM:-0600
TZOFFSETTO:-0500
TZNAME:CDT
DTSTART:20260308T080000
END:DAYLIGHT
BEGIN:STANDARD
TZOFFSETFROM:-0500
TZOFFSETTO:-0600
TZNAME:CST
DTSTART:20261101T070000
END:STANDARD
BEGIN:DAYLIGHT
TZOFFSETFROM:-0600
TZOFFSETTO:-0500
TZNAME:CDT
DTSTART:20270314T080000
END:DAYLIGHT
BEGIN:STANDARD
TZOFFSETFROM:-0500
TZOFFSETTO:-0600
TZNAME:CST
DTSTART:20271107T070000
END:STANDARD
END:VTIMEZONE
BEGIN:VEVENT
DTSTART;TZID=America/Chicago:20260214T130000
DTEND;TZID=America/Chicago:20260214T150000
DTSTAMP:20260421T100207
CREATED:20260126T204039Z
LAST-MODIFIED:20260126T204039Z
UID:10003292-1771074000-1771081200@cityofsupport.org
SUMMARY:Family-Friendly Valentine's Day Celebration
DESCRIPTION:Stop by for a LOVE-ly afternoon at the GENEROC.I.T.Y. Toy Shop as we celebrate Valentine’s Day! \n\n\n\n\n\n\nThis free open-house event includes: \n\nGames\nPrizes\nCrafts\nSnacks\nand more!\n\n  \nPlease register here to help us plan: https://app.betterunite.com/weloveourcity \nStop by our shop and help us spread the love!  #weloveourcity
URL:https://cityofsupport.org/event/family-friendly-valentines-day-celebration/
LOCATION:GENEROC.I.T.Y. TOY SHOP\, 1423 E. Palatine Rd.\, Arlington Heights\, IL\, 60004\, United States
CATEGORIES:Featured CITY Event
ATTACH;FMTTYPE=image/jpeg:https://cityofsupport.org/wp-content/uploads/2026/01/We-Love-our-C.I.T.Y.-at-the-GENEROC.I.T.Y.-Shop-1.jpg
END:VEVENT
END:VCALENDAR