BEGIN:VCALENDAR
VERSION:2.0
PRODID:-//C.I.T.Y. of Support - ECPv6.15.20//NONSGML v1.0//EN
CALSCALE:GREGORIAN
METHOD:PUBLISH
X-ORIGINAL-URL:https://cityofsupport.org
X-WR-CALDESC:Events for C.I.T.Y. of Support
REFRESH-INTERVAL;VALUE=DURATION:PT1H
X-Robots-Tag:noindex
X-PUBLISHED-TTL:PT1H
BEGIN:VTIMEZONE
TZID:America/Chicago
BEGIN:DAYLIGHT
TZOFFSETFROM:-0600
TZOFFSETTO:-0500
TZNAME:CDT
DTSTART:20250309T080000
END:DAYLIGHT
BEGIN:STANDARD
TZOFFSETFROM:-0500
TZOFFSETTO:-0600
TZNAME:CST
DTSTART:20251102T070000
END:STANDARD
BEGIN:DAYLIGHT
TZOFFSETFROM:-0600
TZOFFSETTO:-0500
TZNAME:CDT
DTSTART:20260308T080000
END:DAYLIGHT
BEGIN:STANDARD
TZOFFSETFROM:-0500
TZOFFSETTO:-0600
TZNAME:CST
DTSTART:20261101T070000
END:STANDARD
BEGIN:DAYLIGHT
TZOFFSETFROM:-0600
TZOFFSETTO:-0500
TZNAME:CDT
DTSTART:20270314T080000
END:DAYLIGHT
BEGIN:STANDARD
TZOFFSETFROM:-0500
TZOFFSETTO:-0600
TZNAME:CST
DTSTART:20271107T070000
END:STANDARD
END:VTIMEZONE
BEGIN:VEVENT
DTSTART;TZID=America/Chicago:20260219T190000
DTEND;TZID=America/Chicago:20260219T200000
DTSTAMP:20260419T161039
CREATED:20260130T214001Z
LAST-MODIFIED:20260212T232813Z
UID:10003416-1771527600-1771531200@cityofsupport.org
SUMMARY:Caregiver Appreciation Night
DESCRIPTION:Help us kick off our “Thursday Parent Nights” at the GENEROC.I.T.Y. Shop by honoring YOU\, the caregivers! \nIn honor of National Caregivers Day (2/20)\, we’re going to get together a day early to meet relatable parents and enjoy some snacks/drinks. \n  \nIf needed\, childcare is available on-site in a neighboring room.  (Must reserve this service at least 1 week before the event to ensure we have enough volunteers.) \nReister here: https://www.hisawyer.com/city-of-support/schedules/activity-set/1794202?day=2026-02-19&view=cal&source=all-activities
URL:https://cityofsupport.org/event/caregiver-appreciation-night/
LOCATION:GENEROC.I.T.Y. TOY SHOP\, 1423 E. Palatine Rd.\, Arlington Heights\, IL\, 60004\, United States
CATEGORIES:Featured CITY Event,Parent Meet-Up
ATTACH;FMTTYPE=image/png:https://cityofsupport.org/wp-content/uploads/2026/01/National-Caregivers-Night-1.png
END:VEVENT
END:VCALENDAR