BEGIN:VCALENDAR
VERSION:2.0
PRODID:-//C.I.T.Y. of Support - ECPv6.15.20//NONSGML v1.0//EN
CALSCALE:GREGORIAN
METHOD:PUBLISH
X-WR-CALNAME:C.I.T.Y. of Support
X-ORIGINAL-URL:https://cityofsupport.org
X-WR-CALDESC:Events for C.I.T.Y. of Support
REFRESH-INTERVAL;VALUE=DURATION:PT1H
X-Robots-Tag:noindex
X-PUBLISHED-TTL:PT1H
BEGIN:VTIMEZONE
TZID:UTC
BEGIN:STANDARD
TZOFFSETFROM:+0000
TZOFFSETTO:+0000
TZNAME:UTC
DTSTART:20250101T000000
END:STANDARD
END:VTIMEZONE
BEGIN:VEVENT
DTSTART;TZID=UTC:20260113T100000
DTEND;TZID=UTC:20260113T110000
DTSTAMP:20260422T114751
CREATED:20251230T222309Z
LAST-MODIFIED:20251230T222309Z
UID:10002854-1768298400-1768302000@cityofsupport.org
SUMMARY:Developmental Playgroup at Arlington Heights Library
DESCRIPTION:An inclusive drop-in playgroup for children who receive or are considering therapy services\, ages 0-5.  Children play while families meet and find support.  Siblings welcome. \n\n\n\nFacilitated by Julie Kander with CITY of Support. \n\n\n\nDrop-in. No Library Card Required. \nhttps://www.ahml.info/
URL:https://cityofsupport.org/event/developmental-playgroup-at-arlington-heights-library/2026-01-13/
LOCATION:Elmhurst Library\, 125 S Prospect Ave\, Elmhurst\, Illinois\, 60126\, United States
CATEGORIES:Library
ATTACH;FMTTYPE=image/webp:https://cityofsupport.org/wp-content/uploads/2024/09/C.i.t.y.s-biannualFOR-A-CAUSE-1.webp
END:VEVENT
BEGIN:VEVENT
DTSTART;TZID=UTC:20260113T160000
DTEND;TZID=UTC:20260113T170000
DTSTAMP:20260422T114751
CREATED:20241001T001805Z
LAST-MODIFIED:20251230T220932Z
UID:10000205-1768320000-1768323600@cityofsupport.org
SUMMARY:Developmental Playgroup at Elmhurst Library
DESCRIPTION:An inclusive drop-in playgroup for children who receive or are considering therapy services\, ages 0-5.  Children play while families meet and find support.  Siblings welcome. \n\n\n\nFacilitated by Amy Mishima (Local Leader of C.I.T.Y. of Support) and Ellen Karalis (Executive Director of Comprehensive Behavior Development).  \n\n\n\nDrop-in. No Library Card Required. \n\n\n\nhttps://www.elmhurstpubliclibrary.org/
URL:https://cityofsupport.org/event/developmental-playgroup-at-elmhurst-library/2026-01-13/
LOCATION:Elmhurst Library\, 125 S Prospect Ave\, Elmhurst\, Illinois\, 60126\, United States
CATEGORIES:Library
ATTACH;FMTTYPE=image/webp:https://cityofsupport.org/wp-content/uploads/2024/09/C.i.t.y.s-biannualFOR-A-CAUSE-3-1.webp
END:VEVENT
BEGIN:VEVENT
DTSTART;TZID=UTC:20260120T103000
DTEND;TZID=UTC:20260120T113000
DTSTAMP:20260422T114751
CREATED:20251231T180740Z
LAST-MODIFIED:20251231T180740Z
UID:10003039-1768905000-1768908600@cityofsupport.org
SUMMARY:Developmental Playgroup at the Skokie Public Library
DESCRIPTION:This drop-in inclusive playgroup is for children younger than six who receive or are considering therapy services. Children play while families meet and find support. \nSiblings are welcome. Free tickets will be given to those who attend. \nFacilitated by staff from All Bright Therapies. Presented in partnership with C.I.T.Y. of Support. \nhttps://www.skokielibrary.info/
URL:https://cityofsupport.org/event/developmental-playgroup-at-the-skokie-public-library-3/2026-01-20/
LOCATION:Elmhurst Library\, 125 S Prospect Ave\, Elmhurst\, Illinois\, 60126\, United States
CATEGORIES:Library
ATTACH;FMTTYPE=image/png:https://cityofsupport.org/wp-content/uploads/2025/12/1200x628-1.png
END:VEVENT
BEGIN:VEVENT
DTSTART;TZID=UTC:20260121T103000
DTEND;TZID=UTC:20260121T113000
DTSTAMP:20260422T114751
CREATED:20251230T224843Z
LAST-MODIFIED:20251230T224843Z
UID:10003104-1768991400-1768995000@cityofsupport.org
SUMMARY:Developmental Playgroup at the Barrington Area Library
DESCRIPTION:This drop-in inclusive playgroup is for children younger than six who receive or are considering therapy services. Children play while families meet and find support. \nSiblings are welcome. Free tickets will be given to those who attend. \nFacilitated by Megan Smith\, a Clinical Therapist at Peace Within Therapy and Wellness\, and aligned with C.I.T.Y. of Support’s program model.  \nhttps://www.balibrary.org/
URL:https://cityofsupport.org/event/developmental-playgroup-at-the-barrington-area-library-2/
LOCATION:Elmhurst Library\, 125 S Prospect Ave\, Elmhurst\, Illinois\, 60126\, United States
CATEGORIES:Library
ATTACH;FMTTYPE=image/png:https://cityofsupport.org/wp-content/uploads/2025/12/1200x628-2.png
END:VEVENT
END:VCALENDAR