BEGIN:VCALENDAR
VERSION:2.0
PRODID:-//C.I.T.Y. of Support - ECPv6.15.20//NONSGML v1.0//EN
CALSCALE:GREGORIAN
METHOD:PUBLISH
X-ORIGINAL-URL:https://cityofsupport.org
X-WR-CALDESC:Events for C.I.T.Y. of Support
REFRESH-INTERVAL;VALUE=DURATION:PT1H
X-Robots-Tag:noindex
X-PUBLISHED-TTL:PT1H
BEGIN:VTIMEZONE
TZID:UTC
BEGIN:STANDARD
TZOFFSETFROM:+0000
TZOFFSETTO:+0000
TZNAME:UTC
DTSTART:20240101T000000
END:STANDARD
END:VTIMEZONE
BEGIN:VEVENT
DTSTART;TZID=UTC:20251118T103000
DTEND;TZID=UTC:20251118T113000
DTSTAMP:20260424T223528
CREATED:20251230T223739Z
LAST-MODIFIED:20251230T223739Z
UID:10003285-1763461800-1763465400@cityofsupport.org
SUMMARY:Developmental Playgroup at the Skokie Public Library
DESCRIPTION:This drop-in inclusive playgroup is for children younger than six who receive or are considering therapy services. Children play while families meet and find support. \nSiblings are welcome. Free tickets will be given to those who attend. \nFacilitated by staff from All Bright Therapies. Presented in partnership with C.I.T.Y. of Support. \nhttps://www.skokielibrary.info/
URL:https://cityofsupport.org/event/developmental-playgroup-at-the-skokie-public-library/
LOCATION:Elmhurst Library\, 125 S Prospect Ave\, Elmhurst\, Illinois\, 60126\, United States
CATEGORIES:Library
ATTACH;FMTTYPE=image/png:https://cityofsupport.org/wp-content/uploads/2025/12/1200x628-1.png
END:VEVENT
END:VCALENDAR